Workbook

Sheet P1 Presupuesto Aprobado
A1: SERVICIO NACIONAL DE SALUD
A2: SERVICIO REGIONAL VIII DE SALUD, HOSPITAL MUNICIPAL FANTINO
A3: Año 2024
A4: Ejecución de Gastos y Aplicaciones financieras
A5: En RD$
A7: DETALLE | B7: Presupuesto Aprobado | C7: Presupuesto Modificado
A9: 2 - GASTOS
A10: 2.1 - REMUNERACIONES Y CONTRIBUCIONES | B10: =SUM(B11:B15) -> 143964462
A11: 2.1.1 - REMUNERACIONES | B11: 141767467
A12: 2.1.2 - SOBRESUELDOS | B12: 60525
A13: 2.1.3 - DIETAS Y GASTOS DE REPRESENTACIÓN
A14: 2.1.4 - GRATIFICACIONES Y BONIFICACIONES | B14: 2085350
A15: 2.1.5 - CONTRIBUCIONES A LA SEGURIDAD SOCIAL | B15: 51120
A16: 2.2 - CONTRATACIÓN DE SERVICIOS | B16: =SUM(B17:B25) -> 1741905
A17: 2.2.1 - SERVICIOS BÁSICOS | B17: 297740
A18: 2.2.2 - PUBLICIDAD, IMPRESIÓN Y ENCUADERNACIÓN | B18: 75000
A19: 2.2.3 - VIÁTICOS | B19: 300000
A20: 2.2.4 - TRANSPORTE Y ALMACENAJE | B20: 4800
A21: 2.2.5 - ALQUILERES Y RENTAS | B21: 222000
A22: 2.2.6 - SEGUROS
A23: 2.2.7 - SERVICIOS DE CONSERVACIÓN, REPARACIONES MENORES E INSTALACIONES TEMPORALES | B23: 216200
A24: 2.2.8 - OTROS SERVICIOS NO INCLUIDOS EN CONCEPTOS ANTERIORES | B24: 601788
A25: 2.2.9 - OTRAS CONTRATACIONES DE SERVICIOS | B25: 24377
A26: 2.3 - MATERIALES Y SUMINISTROS | B26: =SUM(B27:B35) -> 19827627
A27: 2.3.1 - ALIMENTOS Y PRODUCTOS AGROFORESTALES | B27: 5093429
A28: 2.3.2 - TEXTILES Y VESTUARIOS | B28: 119000
A29: 2.3.3 - PRODUCTOS DE PAPEL, CARTÓN E IMPRESOS | B29: 703342
A30: 2.3.4 - PRODUCTOS FARMACÉUTICOS | B30: 8044190
A31: 2.3.5 - PRODUCTOS DE CUERO, CAUCHO Y PLÁSTICO | B31: 1639500
A32: 2.3.6 - PRODUCTOS DE MINERALES, METÁLICOS Y NO METÁLICOS
A33: 2.3.7 - COMBUSTIBLES, LUBRICANTES, PRODUCTOS QUÍMICOS Y CONEXOS | B33: 3156775
A34: 2.3.8 - GASTOS QUE SE ASIGNARÁN DURANTE EL EJERCICIO (ART. 32 Y 33 LEY 423-06)
A35: 2.3.9 - PRODUCTOS Y ÚTILES VARIOS | B35: 1071391
A36: 2.4 - TRANSFERENCIAS CORRIENTES | B36: =SUM(B37:B44) -> 0
A37: 2.4.1 - TRANSFERENCIAS CORRIENTES AL SECTOR PRIVADO
A38: 2.4.2 - TRANSFERENCIAS CORRIENTES AL GOBIERNO GENERAL NACIONAL
A39: 2.4.3 - TRANSFERENCIAS CORRIENTES A GOBIERNOS GENERALES LOCALES
A40: 2.4.4 - TRANSFERENCIAS CORRIENTES A EMPRESAS PÚBLICAS NO FINANCIERAS
A41: 2.4.5 - TRANSFERENCIAS CORRIENTES A INSTITUCIONES PÚBLICAS FINANCIERAS
A42: 2.4.6 - SUBVENCIONES
...

Sheet P2 Presupuesto Aprobado-Ejec 
A2: SERVICIO NACIONAL DE SALUD
A3: SERVICIO REGIONAL VIII HOSPITAL MUNICIPAL FANTINO
A4: Año 2025
A5: Ejecución de Gastos y Aplicaciones financieras
A6: En RD$
A7: Codigo de la actividad: 4.1.2.2.05
A8: DETALLE | B8: Presupuesto Aprobado | C8: Presupuesto Modificado | D8: Gasto devengado
D9: Enero | E9: Febrero | F9: Marzo | G9: Abril | H9: Mayo | I9: Junio | J9: Julio | K9: Agosto | L9: Septiembre | M9: Octubre | N9: Noviembre | O9: Diciembre | P9: Total
A10: 2 - GASTOS | B10: =+B11+B17+B27+B37+B46+B53+B63+B68 -> 166299092 | C10: =+C11+C17+C27+C37+C46+C53+C63+C68 -> 0 | D10: =+D11+D17+D27+D37+D46+D53+D63+D68 -> 2406406.8 | E10: =+E11+E17+E27+E37+E46+E53+E63+E68 -> 0 | F10: =+F11+F17+F27+F37+F46+F53+F63+F68 -> 0 | G10: =+G11+G17+G27+G37+G46+G53+G63+G68 -> 0 | H10: =+H11+H17+H27+H37+H46+H53+H63+H68 -> 0 | I10: =+I11+I17+I27+I37+I46+I53+I63+I68 -> 0 | ... P10: =+P11+P17+P27+P37+P46+P53+P63+P68 -> 2406406.8
A11: 2.1 - REMUNERACIONES Y CONTRIBUCIONES | B11: =SUM(B12:B16) -> 143964462 | C11: =SUM(C12:C16) -> 0 | D11: =SUM(D12:D16) -> 166255.3 | E11: =SUM(E12:E16) -> 0 | F11: =SUM(F12:F16) -> 0 | G11: =SUM(G12:G16) -> 0 | H11: =SUM(H12:H16) -> 0 | I11: =SUM(I12:I16) -> 0 | ... P11: =SUM(P12:P16) -> 166255.3
A12: 2.1.1 - REMUNERACIONES | B12: 141767467 | D12: 161995.3 | P12: =SUM(D12:O12) -> 161995.3
A13: 2.1.2 - SOBRESUELDOS | B13: 60525 | P13: =SUM(D13:O13) -> 0
A14: 2.1.3 - DIETAS Y GASTOS DE REPRESENTACIÓN | P14: =SUM(D14:O14) -> 0
A15: 2.1.4 - GRATIFICACIONES Y BONIFICACIONES | B15: 2085350 | P15: =SUM(D15:O15) -> 0
A16: 2.1.5 - CONTRIBUCIONES A LA SEGURIDAD SOCIAL | B16: 51120 | D16: 4260 | P16: =SUM(D16:O16) -> 4260
A17: 2.2 - CONTRATACIÓN DE SERVICIOS | B17: =SUM(B18:B26) -> 1741905 | C17: =SUM(C18:C26) -> 0 | D17: =SUM(D18:D26) -> 114539.11 | E17: =SUM(E18:E26) -> 0 | F17: =SUM(F18:F26) -> 0 | G17: =SUM(G18:G26) -> 0 | H17: =SUM(H18:H26) -> 0 | I17: =SUM(I18:I26) -> 0 | ... P17: =SUM(P18:P26) -> 114539.11
A18: 2.2.1 - SERVICIOS BÁSICOS | B18: 297740 | D18: 20493.91 | P18: =SUM(D18:O18) -> 20493.91
A19: 2.2.2 - PUBLICIDAD, IMPRESIÓN Y ENCUADERNACIÓN | B19: 75000 | P19: =SUM(D19:O19) -> 0
A20: 2.2.3 - VIÁTICOS | B20: 300000 | P20: =SUM(D20:O20) -> 0
A21: 2.2.4 - TRANSPORTE Y ALMACENAJE | B21: 4800 | P21: =SUM(D21:O21) -> 0
A22: 2.2.5 - ALQUILERES Y RENTAS | B22: 222000 | D22: 7000 | P22: =SUM(D22:O22) -> 7000
A23: 2.2.6 - SEGUROS | P23: =SUM(D23:O23) -> 0
A24: 2.2.7 - SERVICIOS DE CONSERVACIÓN, REPARACIONES MENORES E INSTALACIONES TEMPORALES | B24: 216200 | P24: =SUM(D24:O24) -> 0
A25: 2.2.8 - OTROS SERVICIOS NO INCLUIDOS EN CONCEPTOS ANTERIORES | B25: 601788 | D25: 87045.2 | P25: =SUM(D25:O25) -> 87045.2
A26: 2.2.9 - OTRAS CONTRATACIONES DE SERVICIOS | B26: 24377 | P26: =SUM(D26:O26) -> 0
A27: 2.3 - MATERIALES Y SUMINISTROS | B27: =SUM(B28:B36) -> 19827627 | C27: =SUM(C28:C36) -> 0 | D27: =SUM(D28:D36) -> 2060012.4 | E27: =SUM(E28:E36) -> 0 | F27: =SUM(F28:F36) -> 0 | G27: =SUM(G28:G36) -> 0 | H27: =SUM(H28:H36) -> 0 | I27: =SUM(I28:I36) -> 0 | ... P27: =SUM(P28:P36) -> 2060012.4
A28: 2.3.1 - ALIMENTOS Y PRODUCTOS AGROFORESTALES | B28: 5093429 | D28: 365402.7 | P28: =SUM(D28:O28) -> 365402.7
A29: 2.3.2 - TEXTILES Y VESTUARIOS | B29: 119000 | D29: 6667 | P29: =SUM(D29:O29) -> 6667
A30: 2.3.3 - PRODUCTOS DE PAPEL, CARTÓN E IMPRESOS | B30: 703342 | P30: =SUM(D30:O30) -> 0
A31: 2.3.4 - PRODUCTOS FARMACÉUTICOS | B31: 8044190 | D31: 369993.1 | P31: =SUM(D31:O31) -> 369993.1
A32: 2.3.5 - PRODUCTOS DE CUERO, CAUCHO Y PLÁSTICO | B32: 1639500 | P32: =SUM(D32:O32) -> 0
A33: 2.3.6 - PRODUCTOS DE MINERALES, METÁLICOS Y NO METÁLICOS | P33: =SUM(D33:O33) -> 0
A34: 2.3.7 - COMBUSTIBLES, LUBRICANTES, PRODUCTOS QUÍMICOS Y CONEXOS | B34: 3156775 | D34: 867520.24 | P34: =SUM(D34:O34) -> 867520.24
A35: 2.3.8 - GASTOS QUE SE ASIGNARÁN DURANTE EL EJERCICIO (ART. 32 Y 33 LEY 423-06) | P35: =SUM(D35:O35) -> 0
A36: 2.3.9 - PRODUCTOS Y ÚTILES VARIOS | B36: 1071391 | D36: 450429.31 | P36: =SUM(D36:O36) -> 450429.31
A37: 2.4 - TRANSFERENCIAS CORRIENTES | B37: =SUM(B38:B45) -> 0 | C37: =SUM(C38:C45) -> 0 | D37: =SUM(D38:D45) -> 0 | E37: =SUM(E38:E45) -> 0 | F37: =SUM(F38:F45) -> 0 | G37: =SUM(G38:G45) -> 0 | H37: =SUM(H38:H45) -> 0 | I37: =SUM(I38:I45) -> 0 | ... P37: =SUM(P38:P45) -> 0
A38: 2.4.1 - TRANSFERENCIAS CORRIENTES AL SECTOR PRIVADO | B38: =+'P1 Presupuesto Aprobado'!B37 -> 0 | P38: =SUM(D38:O38) -> 0
A39: 2.4.2 - TRANSFERENCIAS CORRIENTES AL GOBIERNO GENERAL NACIONAL | B39: =+'P1 Presupuesto Aprobado'!B38 -> 0 | P39: =SUM(D39:O39) -> 0
A40: 2.4.3 - TRANSFERENCIAS CORRIENTES A GOBIERNOS GENERALES LOCALES | B40: =+'P1 Presupuesto Aprobado'!B39 -> 0 | P40: =SUM(D40:O40) -> 0
A41: 2.4.4 - TRANSFERENCIAS CORRIENTES A EMPRESAS PÚBLICAS NO FINANCIERAS | B41: =+'P1 Presupuesto Aprobado'!B40 -> 0 | P41: =SUM(D41:O41) -> 0
...

Sheet P2 Presupuesto Aprobado-Eje (2
A2: SERVICIO NACIONAL DE SALUD
A3: SERVICIO REGIONAL VIII DE SALUD, CIBAO CENTRAL, LA VEGA
A4: Año 2024
A5: Ejecución de Gastos y Aplicaciones financieras
A6: En RD$
A8: DETALLE | B8: Presupuesto Aprobado | C8: Gasto devengado
C9: Enero | D9: Febrero | E9: Marzo | F9: Abril | G9: Mayo | H9: Junio | I9: Julio | J9: Agosto | K9: Septiembre | L9: Octubre | M9: Noviembre | N9: Diciembre | O9: Total
A10: 2 - GASTOS | B10: 158254902 | C10: 2036473.7 | Q10: =+P10-L10 -> 0
A11: 2.3 - MATERIALES Y SUMINISTROS
A12: 2.3.4 - PRODUCTOS FARMACÉUTICOS | B12: 8044190 | C12: 369993.1
A15: Presupuesto aprobado: Se refiere al presupuesto aprobado en la Ley de Presupuesto General del Estado.
A16: Presupuesto modificado: Se refiere al presupuesto aprobado en caso de que el Congreso Nacional apruebe un presupuesto complementario.
A17: Total devengado: Son los recursos financieros que surgen con la obligación de pago por la recepción de conformidad de obras, bienes y servicios oportunamente contratados o, en los casos de gastos sin contraprestación, por haberse cumplido los requisitos administrativos dispuestos por el reglamento de la presente Ley.
A20: Preparado por
A21: SILVIO DE LA CRUZ VELOZ
A22: CONTADOR

Sheet P3 Ejecucion 
C3: {Ministerio al que está adscrito (si aplica)}
C4: Nombre de la institución
C5: Año {año}
C6: Ejecución de Gasto y Aplicaciones financieras
C7: En RD$
C9: DETALLE | D9: Enero | E9: Febrero | F9: Marzo | G9: Abril | H9: Mayo | I9: Junio | J9: Julio | K9: Agosto | L9: Septiembre | M9: Octubre | N9: Noviembre | O9: Diciembre | P9: Total
C10: 2 - GASTOS
C11: 2.1 - REMUNERACIONES Y CONTRIBUCIONES
C12: 2.1.1 - REMUNERACIONES
C13: 2.1.2 - SOBRESUELDOS
C14: 2.1.3 - DIETAS Y GASTOS DE REPRESENTACIÓN
C15: 2.1.4 - GRATIFICACIONES Y BONIFICACIONES
C16: 2.1.5 - CONTRIBUCIONES A LA SEGURIDAD SOCIAL
C17: 2.2 - CONTRATACIÓN DE SERVICIOS
C18: 2.2.1 - SERVICIOS BÁSICOS
C19: 2.2.2 - PUBLICIDAD, IMPRESIÓN Y ENCUADERNACIÓN
C20: 2.2.3 - VIÁTICOS
C21: 2.2.4 - TRANSPORTE Y ALMACENAJE
... C84: Total general
