Workbook

Sheet CONSOLIDADO FR
A3: SERVICIO NACIONAL DE SALUD
A4: Direccion de Fiscalizacion
A5: Consolidado de Gasto del Fondo Reponible
A7: Establecimiento : | F7: Hospital Municipal Fantino | H7: Ubicación Geográfica :
A8: No. Fas : / Función : | G8: Municipio : | H8: FANTINO
A9: No. Fondo | D9: 4 | G9: Año : 2024 / Programática :
A10: Monto del Fondo : | F10: 691000 | G10: Monto a Reponer : | H10: =K210 -> 950505.97 | O10: Contraseña: 1234
A11: No. Del Primer transf. : | F11: 35628103674 | G11: No. Del Ultima transf. O Ck. : | I11: 35639193779
A12: No. Del Primer Recibo de Caja Chica : | G12: No. Del Ultimo Recibo de Caja Chica :
A13: Monto de Caja Chica a Reponer: | G13: Monto de Cheques Emitidos : | I13: =H10-K95 -> 948786.21
A14: Tipo | B14: Objeto | C14: Cuenta | D14: Subcuenta | E14: Auxiliar | F14: Descripción Cuenta | H14: TOTALES RD$ | M14: %
H15: Objeto | I15: Cuenta | J15: Sub Cuenta | K15: Auxiliar | L15: %
A16: 2 | B16: 2 | F16: SERVICIOS NO PERSONALES | H16: =I17+I34+I39+I44+I53+I68+I73+I91+I117 -> 77689.06 | L16: =K16/$J$210 -> 0
A17: 2 | B17: 2 | C17: 1 | F17: SERVICIOS BASICOS | I17: =J18+J20+J22+J24+J26+J28+J30+J32 -> 19269.3
A18: 2 | B18: 2 | C18: 1 | D18: 1 | F18: Radiocomunicación | J18: =K19 -> 0
A19: 2 | B19: 2 | C19: 1 | D19: 1 | E19: 0 1 | F19: Radiocomunicación | K19: ='CUENTA T FR'!A74 -> 0 | L19: =K19/$J$210 -> 0
A20: 2 | B20: 2 | C20: 1 | D20: 2 | F20: Servicios telefónicos de larga distancia | J20: =K21 -> 0
A21: 2 | B21: 2 | C21: 1 | D21: 2 | E21: 0 1 | F21: Servicios telefónicos de larga distancia | K21: ='CUENTA T FR'!B74 -> 0 | L21: =K21/$J$210 -> 0
A22: 2 | B22: 2 | C22: 1 | D22: 3 | F22: Teléfono local | J22: =K23 -> 19269.3
A23: 2 | B23: 2 | C23: 1 | D23: 3 | E23: 0 1 | F23: Teléfono local | K23: ='CUENTA T FR'!C74 -> 19269.3 | L23: =K23/$J$210 -> 0.020272676
A24: 2 | B24: 2 | C24: 1 | D24: 4 | F24: Telefax y correos | J24: =K25 -> 0
A25: 2 | B25: 2 | C25: 1 | D25: 4 | E25: 0 1 | F25: Telefax y correos | K25: ='CUENTA T FR'!D74 -> 0 | L25: =K25/$J$210 -> 0
A26: 2 | B26: 2 | C26: 1 | D26: 5 | F26: Servicios de internet y televisión por cable | J26: =K27 -> 0
A27: 2 | B27: 2 | C27: 1 | D27: 5 | E27: 0 1 | F27: Servicios de internet y televisión por cable | K27: ='CUENTA T FR'!E74 -> 0 | L27: =K27/$J$210 -> 0
A28: 2 | B28: 2 | C28: 1 | D28: 6 | F28: Electricidad | J28: =K29 -> 0
A29: 2 | B29: 2 | C29: 1 | D29: 6 | E29: 0 1 | F29: Energía eléctrica | K29: ='CUENTA T FR'!F74 -> 0 | L29: =K29/$J$210 -> 0
A30: 2 | B30: 2 | C30: 1 | D30: 7 | F30: Agua | J30: =K31 -> 0
A31: 2 | B31: 2 | C31: 1 | D31: 7 | E31: 0 1 | F31: Agua | K31: ='CUENTA T FR'!G74 -> 0 | L31: =K31/$J$210 -> 0
A32: 2 | B32: 2 | C32: 1 | D32: 8 | F32: Recolección de residuos sólidos | J32: =K33 -> 0
A33: 2 | B33: 2 | C33: 1 | D33: 8 | E33: 0 1 | F33: Recolección de residuos sólidos | K33: ='CUENTA T FR'!H74 -> 0 | L33: =K33/$J$210 -> 0
A34: 2 | B34: 2 | C34: 2 | F34: PUBLICIDAD, IMPRESIÓN Y ENCUADERNACION | I34: =J35+J37 -> 0
A35: 2 | B35: 2 | C35: 2 | D35: 1 | F35: Publicidad y Propaganda | J35: =K36 -> 0
A36: 2 | B36: 2 | C36: 2 | D36: 1 | E36: 0 1 | F36: Publicidad y Propaganda | K36: ='CUENTA T FR'!I74 -> 0 | L36: =K36/$J$210 -> 0
A37: 2 | B37: 2 | C37: 2 | D37: 2 | F37: Impresión, Encuadernación y Rotulación | J37: =K38 -> 0
A38: 2 | B38: 2 | C38: 2 | D38: 2 | E38: 0 1 | F38: Impresión, Encuadernación y Rotulación | K38: ='CUENTA T FR'!J74 -> 0 | L38: =K38/$J$210 -> 0
A39: 2 | B39: 2 | C39: 3 | F39: VIATICOS | I39: =J40+J42 -> 56700
A40: 2 | B40: 2 | C40: 3 | D40: 1 | F40: Viáticos dentro del País | J40: =K41 -> 56700
A41: 2 | B41: 2 | C41: 3 | D41: 1 | E41: 0 1 | F41: Viáticos dentro del País | K41: ='CUENTA T FR'!K74 -> 56700 | L41: =K41/$J$210 -> 0.05965244
A42: 2 | B42: 2 | C42: 3 | D42: 2 | F42: Viáticos fuera del país | J42: =K43 -> 0
A43: 2 | B43: 2 | C43: 3 | D43: 2 | E43: 0 1 | F43: Viáticos fuera del país | K43: ='CUENTA T FR'!L74 -> 0 | L43: =K43/$J$210 -> 0
...

Sheet CUENTA T FR
A1: 221101 | B1: 221201 | C1: 221301 | D1: 221401 | E1: 221501 | F1: 221601 | G1: 221701 | H1: 221801 | I1: 222101 | J1: 222201 | K1: 223101 | L1: 223201 | M1: 224101 | N1: 224201 | O1: 224301 | P1: 224401 | Q1: 225101 | R1: 225301 | S1: 225302 | T1: 225303 | U1: 225304 | V1: 225305 | W1: 225401 | X1: 225801 | Y1: 225901 | Z1: 226101 | AA1: 226201 | AB1: 227101 | AC1: 227103 | AD1: 227106 | AE1: 227107 | AF1: 227199 | AG1: 227201 | AH1: 227202 | AI1: 227204 | AJ1: 227205 | AK1: 227206 | AL1: 227207 | AM1: 227208 | AN1: 227299 | AO1: 227301 | AP1: 228101 | AQ1: 228201 | AR1: 228301 | AS1: 228401 | AT1: 228501 | AU1: 228502 | AV1: 228503 | AW1: 228601 | AX1: 228602 | AY1: 228702 | AZ1: 228703 | BA1: 228704 | BB1: 228705 | BC1: 228706 | BD1: 228801 | BE1: 228802 | BF1: 228803 | BG1: 229201 | BH1: 229203 | BI1: 231101 | BJ1: 231401 | BK1: 232101 | BL1: 232201 | BM1: 232301 | BN1: 233101 | BO1: 233201 | BP1: 233301 | BQ1: 233401 | BR1: 233501 | BS1: 234101 | BT1: 235101 | BU1: 235201 | BV1: 235301 | BW1: 235401 | BX1: 235501 | BY1: 236101 | BZ1: 236102 | CA1: 236103 | CB1: 236104 | CC1: 236105 | CD1: 236201 | CE1: 236202 | CF1: 236203 | CG1: 236304 | CH1: 236305 | CI1: 236306 | CJ1: 236401 | CK1: 236403 | CL1: 236407 | CM1: 236901 | CN1: 237101 | CO1: 237102 | CP1: 237104 | CQ1: 237105 | CR1: 237106 | CS1: 237202 | CT1: 237203 | CU1: 237205 | CV1: 237206 | CW1: 237299 | CX1: 239101 | CY1: 239201 | CZ1: 239301 | DA1: 239501 | DB1: 239601 | DC1: 239801 | DD1: 239802 | DE1: 239901 | DF1: 239904 | DG1: Totales | DH1: TRANSF NO. | DI1: VALOR | DJ1: RETENCION | DK1: AÑOS ANTERIORES | DL1: 2022 | DM1: Total | DN1: Proveedor Informal
CT2: 267052.04 | CZ2: 29259.1 | DG2: =SUM(A2:DF2) -> 296311.14 | DH2: 35628103674 | DI2: =+DG2 -> 296311.14 | DJ2: 14571.72
CX3: 21793.49 | DG3: =SUM(A3:DF3) -> 21793.49 | DH3: 35628116696 | DI3: =+DG3 -> 21793.49 | DJ3: 923.45
CW4: 107919.9 | DG4: =SUM(A4:DF4) -> 107919.9 | DH4: 35628130003 | DI4: =+DG4 -> 107919.9 | DJ4: 4572.87
BI5: 7000 | DG5: =SUM(A5:DF5) -> 7000 | DH5: 35628149901 | DI5: =+DG5 -> 7000 | DJ5: 700 | DN5: 7000
BI6: 6996 | DG6: =SUM(A6:DF6) -> 6996 | DH6: 35628305531 | DI6: =+DG6 -> 6996 | DJ6: 699.6 | DN6: 6996
BP7: 6700 | DG7: =SUM(A7:DF7) -> 6700 | DH7: 35628315786 | DI7: =+DG7 -> 6700 | DJ7: 670 | DN7: 6700
K8: 4700 | DG8: =SUM(A8:DF8) -> 4700 | DH8: 35637600140 | DI8: =+DG8 -> 4700
K9: 3100 | DG9: =SUM(A9:DF9) -> 3100 | DH9: 35637610435 | DI9: =+DG9 -> 3100
K10: 1050 | DG10: =SUM(A10:DF10) -> 1050 | DH10: 35637621897 | DI10: =+DG10 -> 1050
K11: 1050 | DG11: =SUM(A11:DF11) -> 1050 | DH11: 35637644405 | DI11: =+DG11 -> 1050
K12: 800 | DG12: =SUM(A12:DF12) -> 800 | DH12: 35637656986 | DI12: =+DG12 -> 800
K13: 800 | DG13: =SUM(A13:DF13) -> 800 | DH13: 35637670957 | DI13: =+DG13 -> 800
K14: 800 | DG14: =SUM(A14:DF14) -> 800 | DH14: 35638555897 | DI14: =+DG14 -> 800
K15: 800 | DG15: =SUM(A15:DF15) -> 800 | DH15: 35638567581 | DI15: =+DG15 -> 800
K16: 2150 | DG16: =SUM(A16:DF16) -> 2150 | DH16: 35638579717 | DI16: =+DG16 -> 2150
K17: 4050 | DG17: =SUM(A17:DF17) -> 4050 | DH17: 35638590098 | DI17: =+DG17 -> 4050
K18: 1800 | DG18: =SUM(A18:DF18) -> 1800 | DH18: 35638608522 | DI18: =+DG18 -> 1800
K19: 1100 | DG19: =SUM(A19:DF19) -> 1100 | DH19: 35638622155 | DI19: =+DG19 -> 1100
... K24: 1350 | DG24: =SUM(A24:DF24) -> 1350 | DH24: 35638730068 | DI24: =+DG24 -> 1350
AQ25: 758.61 | DG25: =SUM(A25:DF25) -> 758.61 | DI25: 758.61
C26: 19269.3 | DG26: =SUM(A26:DF26) -> 19269.3 | DH26: 35973227461 | DI26: 19269.3
CT27: 306798.7 | CZ27: 62805.68 | DG27: =SUM(A27:DF27) -> 369604.38 | DH27: 35973242268 | DI27: 369604.38
BS28: 42496 | DG28: =SUM(A28:DF28) -> 42496 | DH28: 35973258895 | DI28: 42496 | DJ28: 2124.8
BI29: 7000 | DG29: =SUM(A29:DF29) -> 7000 | DH29: 35973265848 | DI29: 7000 | DJ29: 700
BI30: 6996 | DG30: =SUM(A30:DF30) -> 6996 | DH30: 35973279835 | DI30: 6996 | DJ30: 699.6
K31: 4700 | DG31: =SUM(A31:DF31) -> 4700 | DH31: 35973791319 | DI31: 4700
K32: 1200 | DG32: =SUM(A32:DF32) -> 1200 | DH32: 35973807448 | DI32: 1200
K33: 1200 | DG33: =SUM(A33:DF33) -> 1200 | DH33: 35974150150 | DI33: 1200
K34: 1550 | DG34: =SUM(A34:DF34) -> 1550 | DH34: 35974158997 | DI34: 1550
K35: 4050 | DG35: =SUM(A35:DF35) -> 4050 | DH35: 35974167311 | DI35: 4050
K36: 4200 | DG36: =SUM(A36:DF36) -> 4200 | DH36: 35974176961 | DI36: 4200
K37: 1800 | DG37: =SUM(A37:DF37) -> 1800 | DH37: 35974561784 | DI37: 1800
K38: 900 | DG38: =SUM(A38:DF38) -> 900 | DH38: 35974568862 | DI38: 900
K39: 900 | DG39: =SUM(A39:DF39) -> 900 | DH39: 35974579854 | DI39: 900
K40: 1200 | DG40: =SUM(A40:DF40) -> 1200 | DH40: 35974584581 | DI40: 1200
K41: 900 | DG41: =SUM(A41:DF41) -> 900 | DH41: 35974964192 | DI41: 900
K42: 1100 | DG42: =SUM(A42:DF42) -> 1100 | DH42: 35974971002 | DI42: 1100
... K46: 750 | DG46: =SUM(A46:DF46) -> 750 | DH46: 35983062043 | DI46: 750
AQ47: 961.15 | DG47: =SUM(A47:DF47) -> 961.15 | DI47: 961.15
...

Sheet AVISO DE DEBITO
A6: NOTAS DEL AVISO DE DEBITO
A8: Establecimiento :
A9: Monto del aviso | E9: Monto no considerado
A10: Comisiones Bancarias no consideradas | E10: Comisiones Bancarias
A11: Monto a Reponer | C11: =+C9-G9-C10 -> 0
A12: Fecha | E12: Fondo No.
A19: Preparado por: Licda. Rosa E. Cordero
A20: Analista de Financiera

Sheet CONS. FUENTES FINAN
A1: Form. No.6 SRS
A3: Servicio Nacional de Salud
A4: Dirección de Fizcalización
A5: Consolidado de Ingresos y Gastos por Fuente de Financiamiento
A6: ='CONSOLIDADO FR'!F7 -> Hospital Municipal Fantino
A7: JUNIO 2024
C8: Ingresos Generales:
E9: 1.- Balance Inicial / Fuente:
E10: Anticipo Financiero | G10: 853.94 | H10: Otros Aportes | J10: 213880 | M10: Contraseña: 0001
E11: Transferencias Corrientes
E12: Venta de Servicios | G12: 276366.29
E13: 2.- Ingresos por Fuente / Cuenta
E14: Anticipo Financiero | G14: 949772.82 | H14: Otros Aportes | J14: 82150 | M14: OBJETAL | N14: FR | O14: VS
E15: Transferencias Corrientes | H15: Aportes Nomina SNS | M15: 2.1 | N15: =G26 -> 0 | O15: =H26 -> #REF!
E16: Venta de Servicios | G16: 1637710.6 | M16: 2.2 | N16: =G87 -> 77689.06 | O16: =H87 -> #REF!
H17: TOTAL INGRESOS RDS | J17: =+G10+G11+G12+J10+G14+G15+G16+J14+J15 -> 3160733.7 | M17: 2.3 | N17: ='CONS. FUENTES FINAN'!G212 -> 872816.91 | O17: ='CONS. FUENTES FINAN'!H212 -> #REF!
M18: 2.4 | N18: =G330 -> 0 | O18: =H330 -> #REF!
M19: 2.6 | N19: =G336 -> 0 | O19: =H336 -> #REF!
M20: 2.7 | N20: ='CONS. FUENTES FINAN'!G463 -> 0 | O20: ='CONS. FUENTES FINAN'!H463 -> #REF!
A21: 1 | F21: 2 | G21: 3 | J21: 4 | K21: 5
A22: Código Presupuestario | F22: Descripción Gasto por Cuenta | G22: Distribución del Gasto por Fuente de Financiamiento | J22: TOTAL | K22: %
A23: Tipo | B23: Objeto | C23: Cuenta | D23: Sub-Cuenta | E23: Auxiliar | G23: Anticipo Financiero/ Transferencia | H23: Venta de Servicios/ Otros Aportes | I23: Aportes Nomina SNS
A25: 2 | F25: Gastos | G25: =+G26+G87+G212+G330+G336+G463 -> 950505.97 | H25: =+H26+H87+H212+H330+H336+H463 -> #REF! | I25: =+I26+I87+I212+I330+I336+I463 -> #REF! | J25: =SUM(G25:I25) -> #REF! | K25: =+K26+K87+K212+K330+K336+K463 -> #REF!
A26: 2 | B26: 1 | F26: Servicios Personales | G26: =+G27+G51+G64+G71+G78 -> 0 | H26: =+H27+H51+H64+H71+H78 -> #REF! | I26: =+I27+I51+I64+I71+I78 -> #REF! | J26: =SUM(G26:I26) -> #REF! | K26: =J26/$J$25 -> #REF!
A27: 2 | B27: 1 | C27: 1 | F27: Remuneraciones | G27: =+G28+G35+G42+G44+G46 -> 0 | H27: =+H28+H35+H42+H44+H46 -> #REF! | I27: =+I28+I35+I42+I44+I46 -> #REF! | J27: =SUM(G27:I27) -> #REF!
A28: 2 | B28: 1 | C28: 1 | D28: 1 | F28: Remuneraciones al personal fijo | G28: =SUM(G29:G34) -> 0 | H28: =SUM(H29:H34) -> #REF! | I28: =SUM(I29:I34) -> #REF! | J28: =SUM(G28:I28) -> #REF!
A29: 2 | B29: 1 | C29: 1 | D29: 1 | E29: 01 | F29: Sueldos a empleados fijos | H29: =#REF! -> #REF! | I29: =#REF! -> #REF! | J29: =SUM(G29:I29) -> #REF! | K29: =J29/$J$25 -> #REF!
A30: 2 | B30: 1 | C30: 1 | D30: 1 | E30: 02 | F30: Sueldos a médicos | H30: =#REF! -> #REF! | I30: =#REF! -> #REF! | J30: =SUM(G30:I30) -> #REF! | K30: =J30/$J$25 -> #REF!
A31: 2 | B31: 1 | C31: 1 | D31: 1 | E31: 03 | F31: Ascensos a militares | H31: =#REF! -> #REF! | I31: =#REF! -> #REF! | J31: =SUM(G31:I31) -> #REF! | K31: =J31/$J$25 -> #REF!
A32: 2 | B32: 1 | C32: 1 | D32: 1 | E32: 04 | F32: Nuevas plazas maestros | H32: =#REF! -> #REF! | I32: =#REF! -> #REF! | J32: =SUM(G32:I32) -> #REF! | K32: =J32/$J$25 -> #REF!
A33: 2 | B33: 1 | C33: 1 | D33: 1 | E33: 05 | F33: Incentivos y escalafón | H33: =#REF! -> #REF! | I33: =#REF! -> #REF! | J33: =SUM(G33:I33) -> #REF! | K33: =J33/$J$25 -> #REF!
A34: 2 | B34: 1 | C34: 1 | D34: 1 | E34: 06 | F34: Nuevas plazas a médicos | H34: =#REF! -> #REF! | I34: =#REF! -> #REF! | J34: =SUM(G34:I34) -> #REF! | K34: =J34/$J$25 -> #REF!
A35: 2 | B35: 1 | C35: 1 | D35: 2 | F35: Remuneraciones al personal con carácter transitorio | G35: =SUM(G36:G41) -> 0 | H35: =SUM(H36:H41) -> #REF! | I35: =SUM(I36:I41) -> #REF! | J35: =SUM(G35:I35) -> #REF!
A36: 2 | B36: 1 | C36: 1 | D36: 2 | E36: 03 | F36: Suplencias | H36: =#REF! -> #REF! | I36: =#REF! -> #REF! | J36: =SUM(G36:I36) -> #REF! | K36: =J36/$J$25 -> #REF!
A37: 2 | B37: 1 | C37: 1 | D37: 2 | E37: 05 | F37: Sueldo al personal nominal en período probatorio | H37: =#REF! -> #REF! | I37: =#REF! -> #REF! | J37: =SUM(G37:I37) -> #REF! | K37: =J37/$J$25 -> #REF!
A38: 2 | B38: 1 | C38: 1 | D38: 2 | E38: 06 | F38: Jornales | H38: =#REF! -> #REF! | I38: =#REF! -> #REF! | J38: =SUM(G38:I38) -> #REF! | K38: =J38/$J$25 -> #REF!
A39: 2 | B39: 1 | C39: 1 | D39: 2 | E39: 08 | F39: Empleados temporales | H39: =#REF! -> #REF! | I39: =#REF! -> #REF! | J39: =SUM(G39:I39) -> #REF! | K39: =J39/$J$25 -> #REF!
A40: 2 | B40: 1 | C40: 1 | D40: 2 | E40: 09 | F40: Personal de carácter eventual | H40: =#REF! -> #REF! | I40: =#REF! -> #REF! | J40: =SUM(G40:I40) -> #REF! | K40: =J40/$J$25 -> #REF!
A41: 2 | B41: 1 | C41: 1 | D41: 2 | E41: 11 | F41: Interinato | H41: =#REF! -> #REF! | I41: =#REF! -> #REF! | J41: =SUM(G41:I41) -> #REF! | K41: =J41/$J$25 -> #REF!
A42: 2 | B42: 1 | C42: 1 | D42: 3 | F42: Sueldos al personal fijo en trámite de pensiones | G42: =SUM(G43) -> 0 | H42: =SUM(H43) -> #REF! | I42: =SUM(I43) -> #REF! | J42: =SUM(G42:I42) -> #REF!
...
