Workbook

Sheet Balanza Comprobacion
A4: Servicio Regional VIII de Salud, Cibao Central
C5: HOSPITAL MUNICIPAL FANTINO
A6: BALANZA DE COMPROBACION
A7: Del ejercicio terminado al 31 Mayo 2025
A8: l
A9: CUENTA | B9: CONCEPTO | C9: DEBITO | D9: CREDITO | E9: BALANCE
A10: 110102101 | B10: VENTAS DE SERVICIOS (FONDOS SENASA) | C10: =+Ingresos!B11 -> 2535382.6 | D10: 0 | E10: =+C10-D10 -> 2535382.6
A11: 110102102 | B11: FONDO OPERATIVO | C11: =+Ingresos!B18 -> 474903.86 | D11: 0 | E11: =+C11-D11 -> 474903.86
A12: 110102104 | B12: CLINICAS RURALES #050-208013-2 | C12: 0 | D12: 0 | E12: =+C12-D12 -> 0
A13: 110410 | B13: Gastos Pagados por Adelantado | C13: 0 | D13: 0 | E13: =+C13-D13 -> 0
A14: 110601 | B14: Existencia de Bienes de Cambios y Consumo | C14: 123921.96 | D14: 0 | E14: =+C14-D14 -> 123921.96
A15: 110602 | B15: Existencias de Productos Terminados y en Proceso | C15: =+Inventario!B13 -> 2003410 | D15: 0 | E15: =+C15-D15 -> 2003410
A16: 1206010001 | B16: Maquinarias y Equipos de Producción | C16: 0 | D16: 0 | E16: =+C16-D16 -> 0
A17: 1206010003 | B17: Equipo de Transporte, Tracción y Elevación | C17: 0 | D17: 0 | E17: =+C17-D17 -> 0
A18: 1206010004 | B18: Equipos de Computación | C18: 0 | D18: 0 | E18: =+C18-D18 -> 0
A19: 1206010005 | B19: Equipos Médicos, Sanitarios y Veterinarios | C19: 0 | D19: 0 | E19: =+C19-D19 -> 0
A20: 1206010006 | B20: Equipos de Comunicación y Señalamiento | C20: 0 | D20: 0 | E20: =+C20-D20 -> 0
A21: 1206010007 | B21: Equipos y Muebles para Oficinas | C21: 45430 | D21: 0 | E21: =+C21-D21 -> 45430
A22: 1206010008 | B22: Herramientas y Respuestos Mayores | C22: 0 | D22: 0 | E22: =+C22-D22 -> 0
A23: 1206010998 | B23: Equipos y mobiliarios de alojamiento | C23: 0 | D23: 0 | E23: =+C23-D23 -> 0
A24: 1206020001 | B24: Terrenos | C24: 0 | D24: 0 | E24: =+C24-D24 -> 0
A25: 1206020002 | B25: Edificios | C25: 0 | D25: 0 | E25: =+C25-D25 -> 0
A26: 1206030004 | B26: Obras Hidráulicas y Sanitarias | C26: 0 | D26: 0 | E26: =+C26-D26 -> 0
A27: 1206030006 | B27: Obras de Energías | C27: 0 | D27: 0 | E27: =+C27-D27 -> 0
A28: 1206030998 | B28: Otras Construcciones y Mejoras en Proceso | C28: 0 | D28: 0 | E28: =+C28-D28 -> 0
A29: 12069909999 | B29: Depreciación de Bienes de uso | C29: 0 | D29: 0
A30: 2103010004 | B30: Contribuciones a la Seguridad Social a Pagar | C30: 4260 | E30: =+C30-D30 -> 4260
A31: 2103010005 | B31: Otros Gastos en Personal a Pagar | C31: 220000 | D31: 0 | E31: =+C31-D31 -> 220000
A32: 2103020001 | B32: Proveedores Directos interno a Pagar a Corto Plazo | C32: 0 | D32: =+'CXP Corto plazo'!B14 -> 1690925.9 | E32: =+C32-D32 -> -1690925.9
A33: 2103060001 | B33: Retenciones Impositivas por Pagar | D33: 89285.82 | E33: =+C33-D33 -> -89285.82
A34: 2198020001 | B34: Regalía Pascual por Pagar | C34: =+'Benef. Empl x p Corto Plazo'!B15 -> 4749.98 | D34: 0 | E34: =+C34-D34 -> 4749.98
A35: 3201 | B35: Capital Institucional | C35: 0 | E35: =+C35-D35 -> 0
A36: 320301 | B36: Resultados de Ejercicios Anteriores | C36: 0 | E36: 485391.17
A37: 320302 | B37: Resultado del Ejercicios | D37: =+'ERF SRS'!F29 -> 1282390.9 | E37: =+C37-D37 -> -1282390.9
A38: 4102980998 | B38: Otros Ingresos | C38: =+Ingresos!B15 -> 54110 | D38: 0 | E38: =+C38-D38 -> 54110
A39: 4104010002 | B39: Transferencias Corrientes de la Administración Central | C39: 0 | D39: 0 | E39: =+C39-D39 -> 0
A40: 5101010002 | B40: Sueldo Personal Temporero | C40: 0 | D40: =+'Total Gasto'!B11 -> 81409 | E40: =+C40-D40 -> -81409
A41: 5101010003 | B41: Compensaciones Directas al Personal | C41: =+'Benef. Empl x p Corto Plazo'!B16 -> 681092.97 | E41: =+C41-D41 -> 681092.97
A42: 51010100070001 | B42: Regalía Pascual | C42: =+'Benef. Empl x p Corto Plazo'!B15 -> 4749.98 | D42: 0 | E42: =+C42-D42 -> 4749.98
A43: 51010100080001 | B43: Contribuciones al Seguro de Salud | C43: 0 | D43: 2026 | E43: =+C43-D43 -> -2026
...

Sheet ESF SNS
D1: Codigo de la Actividad 4.1.2.3.01
C2: HOSPITAL MUNICIPAL FANTINO
C3: Estado de Situación Financiera
C4: Al 31 de Mayo de 2025
C5: (Valores en RD$)
F7: 2025 | H7: =+[1]BC!G11 -> 2016
A8: Mapeo | C8: Activos
C9: Activos corrientes
A10: 0001 | D10: Efectivo y equivalentes de efectivo (Nota 7) | F10: =+Efectivo!C38 -> 1638315.7
A11: 0002 | D11: Inversiones a corto plazo (Nota 8)
A12: 0003 | D12: Porción corriente de documentos por cobrar (Nota 9)
A13: 0004 | D13: Cuenta por cobrar a corto plazo (Notas 8) | F13: =+'Cuenta por Cobrar'!B18 -> 6457052.2
A14: 0005 | D14: Inventarios (Nota 9) | F14: =+Inventario!B14 -> 4091505.6
A15: 0006 | D15: Pagos anticipados (Nota 12) | F15: 0
A16: 0007 | D16: Otros activos corrientes (Nota 13)
C17: Total activos corrientes | F17: =SUM(F9:F16) -> 12186874 | H17: =SUM(H9:H16) -> 0
C19: Activos no corrientes
A20: 0008 | D20: Cuentas por cobrar a largo plazo (Notas 14) | F20: 0
A21: 0009 | D21: Documentos por cobrar (Nota 15)
A22: 0010 | D22: Inversiones a largo plazo (Nota 16)
A23: 0011 | D23: Otros activos financieros (Notas 17) | F23: 0
A24: 0012 | D24: Mobiliarios y equipos neto (Nota 10) | F24: 0
A25: 0013 | D25: Activos intangibles (Nota 10)
A26: 0014 | D26: Otros activos no financieros (Nota 20)
C27: Total activos no corrientes | F27: =SUM(F20:F26) -> 0 | H27: =SUM(H20:H26) -> 0
C29: Total activos | F29: =SUM(F27,F17) -> 12186874 | H29: =SUM(H27,H17) -> 0
C31: Pasivos
C32: Pasivos corrientes
A33: 0015 | D33: Sobregiro bancario (Nota 21) | F33: 0
A34: 0016 | D34: Cuentas por pagar a corto plazo (Nota 11) | F34: =+'CXP Corto plazo'!B14 -> 1690925.9
A35: 0017 | D35: Préstamos a corto plazo (Nota 23)
A36: 0018 | D36: Parte corriente de préstamos a largo plazo (Nota 24)
A37: 0019 | D37: Retenciones y acumulaciones por pagar (Nota 12) | F37: =+#REF! -> #REF!
A38: 0020 | D38: Provisiones a corto plazo (Nota 26) | F38: 0
A39: 0021 | D39: Beneficios a empleados a corto plazo (Nota 13) | F39: =+'Benef. Empl x p Corto Plazo'!B18 -> 771167.95
A40: 0022 | D40: Pensiones (Nota 28)
A41: 0023 | D41: Otros pasivos corrientes (Nota 29) | F41: 0
C42: Total pasivos corrientes | F42: =SUM(F33:F41) -> #REF! | H42: =SUM(H33:H41) -> 0
C44: Pasivos no corrientes
A45: 0024 | D45: Cuentas por pagar a largo plazo (Nota 14)
...

Sheet ERF SRS
C2: =+'ESF SNS'!C2:H2 -> HOSPITAL MUNICIPAL FANTINO
C3: Estado de Rendimiento Financiero
C4: Del ejercicio terminado al 31 Mayo 2025
C5: (Valores en RD$)
F7: 2024 | G7: =+[1]ESF!H7 -> 2016
C8: Ingresos (Nota 17)
A9: 0035 | D9: Impuestos
A10: 0036 | D10: Ingresos por transacciones con contraprestación | F10: =+Ingresos!B28 -> 3064396.5
A11: 0037 | D11: Transferencias
A12: 0038 | D12: Recargos, multas y otros ingresos
C13: Total ingresos | F13: =SUM(F9:F12) -> 3064396.5 | G13: =SUM(G9:G12) -> 0
C15: Gastos (Notas 18, 19, 20, 21 y 22)
A16: 0039 | D16: Sueldos, salarios y beneficios a empleados | F16: =+'Total Gasto'!B11 -> 81409
A17: 0040 | D17: Subvenciones y otros pagos por transferencias
A18: 0041 | D18: Suministros y materiales para consumo | F18: 1278024.8
A19: 0042 | D19: Gasto de depreciación y amortización
A20: 0043 | D20: Deterioro del valor de propiedad, planta y equipo | F20: 0
A21: 0044 | D21: Otros gastos | F21: 417655.6
A22: 0045 | D22: Gastos financieros | F22: =+'Total Gasto'!B57 -> 4916.2 | G22: =SUMIF([1]BC!B:B,[1]ERF!A22,[1]BC!G:G) -> #VALUE!
C23: Total gastos | F23: =SUM(F16:F22) -> 1782005.6 | G23: =SUM(G16:G22) -> #VALUE!
A25: 0046 | D25: Ganancia (pérdida) por diferencia cambiaria | F25: 0 | G25: 0
A27: 0047 | D27: Participación en resultado de asociadas | F27: 0 | G27: 0
C29: Resultados positivos (ahorro) / negativo (desahorro) | F29: =+F13-F23+F25+F27 -> 1282390.9 | G29: =+G13-G23+G25+G27 -> #VALUE!
C31: Atribuible a:
A32: 0048 | D32: Propietarios de la entidad controladora | F32: 0 | G32: 0
A33: 0049 | D33: Intereses minoritarios | F33: 0 | G33: 0
F34: =SUM(F32:F33) -> 0 | G34: =SUM(G32:G33) -> 0
D38: Realizado por | F38: Revisado Por
D39: Licda Claribel Cruz | F39: Licda Yenny Massiel Garcia
D40: Contador | F40: Administradora Financiera

Sheet Efectivo
B2: Servicio Regional VIII de Salud, Cibao Central
B3: HOSPITAL MUNICIPAL FANINO
B4: Nota # 7: Efectivo Caja y Bancos
B5: Del ejercicio terminado al 30 Abril 2025
B6: (Valores en RD$)
A9: # Cta. | B9: Nombre de cuenta | C9: Monto
B11: Caja Chica
A12: 300105134 | B12: Operaciones Ex PSS
B13: Fondo Salud Ex-PSS
A14: 160-112014 | B14: Servicio Nacional de Salud (Fondos Senasa)
A15: 314-0000776 | B15: Fondo Operativo | C15: 587.91
A16: 240-020561-7 | B16: Cuenta Nueva Ranchito
A17: 314-00145-4 | B17: Fondos Especiales CDC
A18: 314-0000920-0 | B18: Cuenta VIH
A19: 314-000181-0 | B19: Cuenta Tuberculosis
B20: Cuenta Ayuda | C20: 0
B21: Venta de Servicios | C21: 1637727.8
B22: Cuenta Proyecto FGRSS
B23: Anticipo Financieros
B24: Cta. Nomina
B25: Total balance cuentas de bancarias del Reservas | C25: =SUM(C11:C24) -> 1638315.7
A28: # Cta. | B28: Tesoreria Nacional | C28: Monto
A29: 9995028000 | B29: Fondo de la Direccion Central Servicio Nacional de Salud
A30: 9995028001 | B30: Sud- Cuenta Cuota de Pago Direccion Central Servicio Nacional de Salud
A31: 2110003000 | B31: Cuenta Direccion Central SNS
A32: 9998014000 | B32: Recaudacion Establecimiento de Salud PSS
B33: Cuenta Colectora Recursos Directos PSS
A34: 100198000 | B34: Sud- Cuenta Disponibilidad Direccion Central Servicio Nacional de Salud
A35: 100198001 | B35: Sub-Cuota de Pago Direccion Central Servicio Nacional de Salud
B36: Total balance cuentas de bancarias tesoreria nacional
B38: Total efectivo y equivalentes de efectivo | C38: =+C25+C36 -> 1638315.7

Sheet Cuenta por Cobrar
A2: =+'Balanza Comprobacion'!A4:E4 -> Servicio Regional VIII de Salud, Cibao Central
A3: HOSPITAL MUNICIPAL FANTINO
A4: Notas # 8: Cuenta Por Cobrar
A5: =+'Balanza Comprobacion'!A7:E7 -> Del ejercicio terminado al 31 Mayo 2025
A6: (Valores en RD$)
A10: Detalle | B10: Monto
A13: Cuentas Por Cobrar Colaboradores
A14: Otras Cuentas Por Cobrar (Retencion IR-3)
A15: Cuentas por Cobrar Proyecto FGBRSS
A16: Cuentas por Cobrar Ventas de Servicios | B16: 6457052.2
A17: Anticipos financieros
A18: Total Cuentas Por Cobrar | B18: =+B13+B14+B15+B16+B17 -> 6457052.2

Sheet CXP Corto plazo
A2: =+'Balanza Comprobacion'!A4:E4 -> Servicio Regional VIII de Salud, Cibao Central
A3: HOSPITAL MUNICIPAL FANTINO
A4: Nota # 11: Cuentas por Pagar a Corto Plazo
A5: =+'Balanza Comprobacion'!A7:E7 -> Del ejercicio terminado al 31 Mayo 2025
A6: (Valores en RD$)
A10: Detalle | B10: Monto
A13: Cuentas por Pagar Suplidores | B13: 1690925.9
A14: Total Cuentas Por Pagar a Corto Plazo | B14: =+B13 -> 1690925.9

Sheet Benef. Empl x p Corto Plazo
A2: =+'Balanza Comprobacion'!A4:E4 -> Servicio Regional VIII de Salud, Cibao Central
A3: HOSPITAL MUNICIPAL FANTINO
A4: Nota # 13: Beneficios a Empleados por Pagar a Corto Plazo
A5: =+'Balanza Comprobacion'!A7:E7 -> Del ejercicio terminado al 31 Mayo 2025
A6: (Valores en RD$)
A9: Detalle | B9: Monto
A12: Sueldos Por Pagar | B12: 20000
A13: Viaticos Empleados | B13: 65325
A14: Prestaciones Laborales Por Pagar Empleados
A15: Regalia Pascual | B15: 4749.98
A16: Incentivo | B16: 681092.97
A17: Seguridad Social x Pagar
A18: Total Beneficios a Empleados por Pagar a Corto Plazo | B18: =SUM(B12:B17) -> 771167.95

Sheet Benef. Empl x pagar Larg. Plaz
A2: =+'Balanza Comprobacion'!A4:E4 -> Servicio Regional VIII de Salud, Cibao Central
A3: HOSPITAL MUNICIPAL FANTINO
A4: Nota #15: Beneficios a Empleados por Pagar Largo Plazo
A5: =+'Balanza Comprobacion'!A7:E7 -> Del ejercicio terminado al 31 Mayo 2025
A6: (Valores en RD$)
A9: Detalle | B9: Monto
A12: Sueldos Por Pagar
A13: Viaticos Empleados
A14: Prestaciones Laborales Por Pagar Empleados
A15: Total Cuentas Por Pagar Largo Plazo | B15: =+B12+B13+B14 -> 0

Sheet Ingresos
A2: =+'Balanza Comprobacion'!A4:E4 -> Servicio Regional VIII de Salud, Cibao Central
A3: Nota 17: Ingresos
A4: HOSPITAL MUNICIPAL FANTINO
A5: =+'Balanza Comprobacion'!A7:E7 -> Del ejercicio terminado al 31 Mayo 2025
A6: (Valores en RD$)
A9: Ingresos con Contraprestacion de Servicios | B9: Monto
A11: Venta de Servicios | B11: 2535382.6
A12: Sub-Total | B12: =SUM(B11) -> 2535382.6
A14: Ingresos sin Contraprestacion de Servicios | B14: Monto
A15: Otros Ingresos | B15: 54110
A16: Operaciones Ex PSS | B16: 0
A17: Fondo Salud Ex-PSS | B17: 0
A18: Fondo Operativo | B18: 474903.86
A19: Cuenta Nueva Ranchito
A20: Fondos Especiales CDC
A21: Cuenta VIH
A22: Cuenta Tuberculosis
A23: Cuenta Proyecto FGRSS
A24: Anticipo Financieros
A25: Cuenta Direccion Central SNS
A26: Sud- Cuenta Disponibilidad Direccion Central Servicio Nacional de Salud
A27: Sub-Total | B27: =SUM(B15:B26) -> 529013.86
A28: Total | B28: =+B12+B27 -> 3064396.5

Sheet Total Gasto
A1: =+'Balanza Comprobacion'!A4:E4 -> Servicio Regional VIII de Salud, Cibao Central
A2: HOSPITAL MUNICIPAL FANTINO
A3: Nota #18,19,20,21 y 22 Gastos Generales
A4: =+'Balanza Comprobacion'!A7:E7 -> Del ejercicio terminado al 31 Mayo 2025
A5: (Valores en RD$)
A7: Detalles | B7: Monto
A8: Gastos de Consumo | B8: 0
A9: Remuneraciones
A10: Sueldos para Cargos Fijos | B10: 0
A11: Sueldos Personal Temporero | B11: 81409
A12: Compensaciones Directas al Personal
A13: Jornales | B13: 0
A14: Honorarios | B14: 0
A15: Dietas y Gastos de Representacion | B15: 0
A16: Prestaciones y Bonificaciones | B16: 0
A17: Contribuciones a la Seguridad Social | B17: 2130
A18: Sueldo anual nº 13 | B18: 0
A19: Otros Servicios Personales | B19: 0
A20: Bienes y Servicios | B20: 0
A21: Servicios no Personales | B21: 368238.55
A22: Servicios de Comunicaciones | B22: 53973.32
A23: Servicios Basicos
A24: Publicidad, Impresiones y Encuadernaciones
A25: Viaticos Dentro y Fuera del Pais | B25: 54400
A26: Transporte y Almacenaje | B26: 8873.6
A27: Alquileres | B27: 14000
A28: Seguros | B28: 0
A29: Conservacion, Reparaciones Menores y Construcciones Temporales | B29: 125475.43
A30: Otros Servicios No Personales | B30: 87516.2
A31: Materiales y Suministros
A32: Alimentos y Productos Agroforestales | B32: 215792.65
A33: Productos Medicinaels para uso humanos | B33: 244689.46
A34: Textiles y Vestuarios
A35: Productos de Papel, Carton e Impresos
A36: Combustibles, Lubricantes, Productos Auimicos y Conexos | B36: 408090.76
A37: Productos de Cuero, Caucho y Plastico
A38: Productos de Minerales Metalicos y no Metalicos
A39: Productos y Utiles Varios
A40: Productos quimicos de laboratorio y uso personal | B40: 649463.37
A41: Material de Limpieza
...

Sheet Inventario
A1: Servicio Regional VIII de Salud, Cibao Central
A2: HOSPITAL MUNICIPAL FANTINO
A3: Nota # 9: Inventario
A4: =+'Cuenta por Cobrar'!A5:B5 -> Del ejercicio terminado al 31 Mayo 2025
A5: (Valores en RD$)
A8: Descripción | B8: Monto
A11: Inventario de Útiles y Suministro de Oficina | B11: 134841.64
A12: Inventario Medicamentos | B12: 1953254
A13: Inventario de Material Med. Quirurjicos. | B13: 2003410
A14: Total Inventario | B14: =SUM(B11:B13) -> 4091505.6

Sheet Patrimonio
A1: Servicio Regional VIII de Salud, Cibao Central
A2: HOSPITAL MUNICIPAL FANTINO
A3: Nota #16: Patrimonio
A4: =+'Benef. Empl x pagar Larg. Plaz'!A5:B5 -> Del ejercicio terminado al 31 Mayo 2025
A5: (Valores en RD$)
A9: Detalle | B9: Monto
A12: Capital | B12: 3012481
A13: Resultados positivos (ahorro)/negativo (desahorro) | B13: =+'ESF SNS'!F57 -> 1282390.9
A14: Resultado acumulado | B14: 5429907.8
A15: Total Patrimonio Neto | B15: =SUM(B12:B14) -> 9724779.7
